BEGIN:VCALENDAR
METHOD:PUBLISH
X-WR-TIMEZONE:America/Chicago
PRODID:-//Hold My Ticket.//HMT Web App//EN
CALSCALE:GREGORIAN
METHOD:PUBLISH
X-WR-CALNAME:Threadgill's World Headquarters
X-WR-CALDESC:Upcoming events at Threadgill's World Headquarters
BEGIN:VTIMEZONE
TZID:America/Chicago 
END:VTIMEZONE
BEGIN:VEVENT
SEQUENCE:2
TRANSP:OPAQUE
UID:53e75cbf9c361a4e06ebfa6379e47dfc
DTSTART:20180817T200000
DTSTAMP:20180817T150132Z
SUMMARY:Bob Schneider 
DESCRIPTION:54-time Austin Music Award-winner Bob Schneider has reigned as a de facto king of the Austin music scene for a couple of decades now, and while no one stays on top forever, the man shows no signs of decay in quality or creativity. Schneider is the city’s genius chameleon, mixing pop, hip-hop, folk and biting humor with essential melodies and bloody brilliant lyrics. His joys and heartbreaks, laid bare in song, help us understand our own. Akina Adderley opens the show at 8pm, Bob Schneider at 9:30pm. 
CREATED:20180817T150132Z
URL;VALUE=URI:http://holdmyticket.com/event/318323 

DTEND:20180817T234500
END:VEVENT
END:VCALENDAR