BEGIN:VCALENDAR
METHOD:PUBLISH
X-WR-TIMEZONE:America/Denver
PRODID:-//Hold My Ticket.//HMT Web App//EN
CALSCALE:GREGORIAN
METHOD:PUBLISH
X-WR-CALNAME:Taos Center for the Arts
X-WR-CALDESC:Upcoming events at Taos Center for the Arts
BEGIN:VTIMEZONE
TZID:America/Denver 
END:VTIMEZONE
BEGIN:VEVENT
SEQUENCE:2
TRANSP:OPAQUE
UID:3f20a764414e418269ff8fb5dec7f5da
DTSTART:20181019T193000
DTSTAMP:20181019T150152Z
SUMMARY:Anda Union
DESCRIPTION:Anda Union's thoroughly addictive combination of Mongolian musical styles is a reflection of their roots. Hailing from differing ethnic nomadic cultures, the nine-strong band unite tribal and music traditions from all over Inner Mongolia. Anda Union bring a wide range of musical instruments and vocal styles together in a fusion that Genghis Khan himself would have been proud of. Keenly aware of the threat to the Grasslands and their age-old Mongolian culture, Anda Union are driven by their fight for the survival of this endangered way of life, by keeping the essence of the music alive.  
CREATED:20181019T150152Z
URL;VALUE=URI:http://holdmyticket.com/event/318363 

DTEND:20181019T220000
END:VEVENT
END:VCALENDAR