BEGIN:VCALENDAR
METHOD:PUBLISH
X-WR-TIMEZONE:America/Denver
PRODID:-//Hold My Ticket.//HMT Web App//EN
CALSCALE:GREGORIAN
METHOD:PUBLISH
X-WR-CALNAME:Taos Ski Valley
X-WR-CALDESC:Upcoming events at Taos Ski Valley
BEGIN:VTIMEZONE
TZID:America/Denver 
END:VTIMEZONE
BEGIN:VEVENT
SEQUENCE:2
TRANSP:OPAQUE
UID:7e4dbda2b471d4838e503cdfeeba8446
DTSTART:20180817T150000
DTSTAMP:20180817T130300Z
SUMMARY:Taos Summer Wine Festival
DESCRIPTION:Mark your calendar for the 2nd Annual Summer Wine Festival at Taos Ski Valley, August 17th - 19th! Wine tastings, food, hiking, live music and more will fill your weekend in the Sangre de Cristo Mountains!


CREATED:20180817T130300Z
URL;VALUE=URI:http://holdmyticket.com/event/318459 

DTEND:20180819T140000
END:VEVENT
END:VCALENDAR