BEGIN:VCALENDAR
METHOD:PUBLISH
X-WR-TIMEZONE:America/Denver
PRODID:-//Hold My Ticket.//HMT Web App//EN
CALSCALE:GREGORIAN
METHOD:PUBLISH
X-WR-CALNAME:Taos Mesa Brewing Mothership
X-WR-CALDESC:Upcoming events at Taos Mesa Brewing Mothership
BEGIN:VTIMEZONE
TZID:America/Denver 
END:VTIMEZONE
BEGIN:VEVENT
SEQUENCE:2
TRANSP:OPAQUE
UID:3756b0a051a21d3506d33c37d326d0d5
DTSTART:20180810T180000
DTSTAMP:20180810T130145Z
SUMMARY:Fish Out of Water Festival - FRIDAY NIGHT
DESCRIPTION:
CREATED:20180810T130145Z
URL;VALUE=URI:http://holdmyticket.com/event/318516 

DTEND:20180810T233000
END:VEVENT
END:VCALENDAR