BEGIN:VCALENDAR
METHOD:PUBLISH
X-WR-TIMEZONE:America/Los_Angeles
PRODID:-//Hold My Ticket.//HMT Web App//EN
CALSCALE:GREGORIAN
METHOD:PUBLISH
X-WR-CALNAME:Humboldt Brews
X-WR-CALDESC:Upcoming events at Humboldt Brews
BEGIN:VTIMEZONE
TZID:America/Los_Angeles 
END:VTIMEZONE
BEGIN:VEVENT
SEQUENCE:2
TRANSP:OPAQUE
UID:c50e6f128ecb5e58178e4226ac038637
DTSTART:20180807T110000
DTSTAMP:20180807T060110Z
SUMMARY:Daytime Dancetime Therapy
DESCRIPTION:Daytime Dancetime Therapy is community healing one dance at a time. We are here to create a weekly space for healing each other, the planet and our community as a whole.
Come experience touch, movement and sharing on Tuesdays. For more information or if you want to be part of building a healing community ~email Star @ starshealinguniverse@gmail.
Reike, Massage, Chi Nei Tsang, and Yoga.  Music by DJ D'Vinity

CREATED:20180807T060110Z
URL;VALUE=URI:http://holdmyticket.com/event/318589 

DTEND:20180807T140000
END:VEVENT
END:VCALENDAR