BEGIN:VCALENDAR
METHOD:PUBLISH
X-WR-TIMEZONE:America/Chicago
PRODID:-//Hold My Ticket.//HMT Web App//EN
CALSCALE:GREGORIAN
METHOD:PUBLISH
X-WR-CALNAME:Threadgill's World Headquarters
X-WR-CALDESC:Upcoming events at Threadgill's World Headquarters
BEGIN:VTIMEZONE
TZID:America/Chicago 
END:VTIMEZONE
BEGIN:VEVENT
SEQUENCE:2
TRANSP:OPAQUE
UID:57d07d701b22b5fc2b9efc9d4def65b2
DTSTART:20180728T190000
DTSTAMP:20180728T140157Z
SUMMARY:Batty Jr. Record Release Show
DESCRIPTION:Join us at Threadgill's for the Batty Jr. record release party for their new record, "Wormholes." 
Lineup: 
The Spencer Jarmon Group at 7
The Oysters at 8
Lolita Lynne at 9
Batty Jr. at 10
CREATED:20180728T140157Z
URL;VALUE=URI:http://holdmyticket.com/event/319659 

DTEND:20180728T234500
END:VEVENT
END:VCALENDAR