BEGIN:VCALENDAR
METHOD:PUBLISH
X-WR-TIMEZONE:America/Chicago
PRODID:-//Hold My Ticket.//HMT Web App//EN
CALSCALE:GREGORIAN
METHOD:PUBLISH
X-WR-CALNAME:Threadgill's 
X-WR-CALDESC:Upcoming events at Threadgill's 
BEGIN:VTIMEZONE
TZID:America/Chicago 
END:VTIMEZONE
BEGIN:VEVENT
SEQUENCE:2
TRANSP:OPAQUE
UID:7393e5549b9fa8436ca1e7dac7259378
DTSTART:20180803T200000
DTSTAMP:20180803T150104Z
SUMMARY:Songwriters Series: Jim Lauderdale
DESCRIPTION:Two-time Grammy-winning singer and master songwriter Jim Lauderdale is both a "songwriter's songwriter," who's written/co-written many modern classics for iconic artists, as well as an intuitive sideman, who's enhanced the music of a bevy of esteemed musicians. As a solo artist, since 1986 up until now, he's created a body work spanning 28 albums of imaginative roots music, encompassing country, bluegrass, soul, R&amp;B and rock. Along the way he's won awards, garnered critical acclaim, and earned himself an engaged fan base.

Tickets $20 advance, $25 at the door.
CREATED:20180803T150104Z
URL;VALUE=URI:http://holdmyticket.com/event/319911 

DTEND:20180803T220000
END:VEVENT
END:VCALENDAR