BEGIN:VCALENDAR
METHOD:PUBLISH
X-WR-TIMEZONE:America/Chicago
PRODID:-//Hold My Ticket.//HMT Web App//EN
CALSCALE:GREGORIAN
METHOD:PUBLISH
X-WR-CALNAME:Threadgill's World Headquarters
X-WR-CALDESC:Upcoming events at Threadgill's World Headquarters
BEGIN:VTIMEZONE
TZID:America/Chicago 
END:VTIMEZONE
BEGIN:VEVENT
SEQUENCE:2
TRANSP:OPAQUE
UID:be8acad30ccb98ea3306472dc98338e0
DTSTART:20180810T193000
DTSTAMP:20180810T150144Z
SUMMARY:Brass in Pocket
DESCRIPTION:Brass In Pocket , America's Pretenders Tribute Band, is coming to Threadgill's! SoulShaker kicks off the evening at 7:30pm, followed by Brass in Pocket at 8:45pm. 
CREATED:20180810T150144Z
URL;VALUE=URI:http://holdmyticket.com/event/320044 

DTEND:20180810T220000
END:VEVENT
END:VCALENDAR