BEGIN:VCALENDAR
METHOD:PUBLISH
X-WR-TIMEZONE:America/Chicago
PRODID:-//Hold My Ticket.//HMT Web App//EN
CALSCALE:GREGORIAN
METHOD:PUBLISH
X-WR-CALNAME:Threadgill's World Headquarters
X-WR-CALDESC:Upcoming events at Threadgill's World Headquarters
BEGIN:VTIMEZONE
TZID:America/Chicago 
END:VTIMEZONE
BEGIN:VEVENT
SEQUENCE:2
TRANSP:OPAQUE
UID:9f6e739756ddbe746e553dfc60538718
DTSTART:20180818T193000
DTSTAMP:20180818T150134Z
SUMMARY:Mock Lobster
DESCRIPTION:Don't miss Mock Lobster, Austin's Tribute to The B-52's! Leigh Rowan at 7:30pm, Mock Lobster at 8:45pm. 
CREATED:20180818T150134Z
URL;VALUE=URI:http://holdmyticket.com/event/320045 

DTEND:20180818T220000
END:VEVENT
END:VCALENDAR