BEGIN:VCALENDAR
METHOD:PUBLISH
X-WR-TIMEZONE:America/Los_Angeles
PRODID:-//Hold My Ticket.//HMT Web App//EN
CALSCALE:GREGORIAN
METHOD:PUBLISH
X-WR-CALNAME:Humboldt Brews
X-WR-CALDESC:Upcoming events at Humboldt Brews
BEGIN:VTIMEZONE
TZID:America/Los_Angeles 
END:VTIMEZONE
BEGIN:VEVENT
SEQUENCE:2
TRANSP:OPAQUE
UID:83674987fb0cf1edf2d79c9d50ef4f61
DTSTART:20181023T210000
DTSTAMP:20181023T160124Z
SUMMARY:Kung Fu
DESCRIPTION:Proud  to  be  firmly  installed  in  the  new-funk  movement,  KUNG  FU  is  quickly  popularizing  their  unique  sonic  contribution,  blurring  the  line  between  intense  electro-fusion,  and  blistering  dance  arrangements.    Making  fusion  music  "cool"  again,  the  band  draws  on  influences  such  as  early  Headhunters  and  Weather  Report,  and  merges  those  ideas  with  a  contemporary  EDM  informed  sensibility.  Imagine  70's  funk-fusion  meets  a  modern  dance  party!Although  the  ensemble  cast  enjoys  a  seasoned  pedigree  that  reads  like  a  late-night  summer  festival  all-star  jam,  this  fledgling  "nu-sion"  project  is  growing  a  unique  and  rabid  following  by  commanding  audiences  at  theaters,  clubs,  and  major  national  festivals  since  2012.  The  powerhouse  quintet's  live  show  has  been  described  by  critics  and  fans  alike  as  "lethal  funk",  "explosive",  "jaw  dropping",  and  "musically  mesmerizing".    For  the  uninitiated,  the  experience  is  typically  shocking  yet  the  focus  is  simple:  just  sit  back  and  enjoy  the  ride!
CREATED:20181023T160124Z
URL;VALUE=URI:http://holdmyticket.com/event/320116 

DTEND:20181024T010000
END:VEVENT
END:VCALENDAR