BEGIN:VCALENDAR
METHOD:PUBLISH
X-WR-TIMEZONE:America/Denver
PRODID:-//Hold My Ticket.//HMT Web App//EN
CALSCALE:GREGORIAN
METHOD:PUBLISH
X-WR-CALNAME:The Cooperage
X-WR-CALDESC:Upcoming events at The Cooperage
BEGIN:VTIMEZONE
TZID:America/Denver 
END:VTIMEZONE
BEGIN:VEVENT
SEQUENCE:2
TRANSP:OPAQUE
UID:8dc71a50bb4dcac4c2da9f765f8a4b5f
DTSTART:20181026T193000
DTSTAMP:20181026T150152Z
SUMMARY:The Steel Wheels
DESCRIPTION:Hailing from the Blue Ridge Mountains of Virginia, The Steel Wheels are familiar with the traditions of folk music and how a string band is supposed to sound. In fact, they’ve been drawing on those steadfast traditions for more than a decade. Yet, their name also evokes a sense of forward motion, which is clearly reflected in their latest album, "Wild As We Came Here." Tracy Grammer will open the show.
CREATED:20181026T150152Z
URL;VALUE=URI:http://holdmyticket.com/event/320125 

DTEND:20181026T213000
END:VEVENT
END:VCALENDAR