BEGIN:VCALENDAR
METHOD:PUBLISH
X-WR-TIMEZONE:America/Los_Angeles
PRODID:-//Hold My Ticket.//HMT Web App//EN
CALSCALE:GREGORIAN
METHOD:PUBLISH
X-WR-CALNAME:Humboldt Brews
X-WR-CALDESC:Upcoming events at Humboldt Brews
BEGIN:VTIMEZONE
TZID:America/Los_Angeles 
END:VTIMEZONE
BEGIN:VEVENT
SEQUENCE:2
TRANSP:OPAQUE
UID:e9ddbd41a1302f2acef51dec71b67c9d
DTSTART:20180803T163000
DTSTAMP:20180803T120103Z
SUMMARY:Phish Webcast at Verizon Ampitheatre, Alpharetta, GA
DESCRIPTION:Live Webcast of PHISH in Georgia.
CREATED:20180803T120103Z
URL;VALUE=URI:http://holdmyticket.com/event/320368 

DTEND:20180803T230000
END:VEVENT
END:VCALENDAR