BEGIN:VCALENDAR
METHOD:PUBLISH
X-WR-TIMEZONE:America/Los_Angeles
PRODID:-//Hold My Ticket.//HMT Web App//EN
CALSCALE:GREGORIAN
METHOD:PUBLISH
X-WR-CALNAME:Humboldt Brews
X-WR-CALDESC:Upcoming events at Humboldt Brews
BEGIN:VTIMEZONE
TZID:America/Los_Angeles 
END:VTIMEZONE
BEGIN:VEVENT
SEQUENCE:2
TRANSP:OPAQUE
UID:4c246b74e5df019e44f6609239c25aa3
DTSTART:20180805T163000
DTSTAMP:20180805T120118Z
SUMMARY:PHISH Webcast at verizon Ampitheatre, Alpharetta, GA
DESCRIPTION:Phish live Summer Tour 2018.
CREATED:20180805T120118Z
URL;VALUE=URI:http://holdmyticket.com/event/320370 

DTEND:20180805T230000
END:VEVENT
END:VCALENDAR