BEGIN:VCALENDAR
METHOD:PUBLISH
X-WR-TIMEZONE:America/Los_Angeles
PRODID:-//Hold My Ticket.//HMT Web App//EN
CALSCALE:GREGORIAN
METHOD:PUBLISH
X-WR-CALNAME:Humboldt Brews
X-WR-CALDESC:Upcoming events at Humboldt Brews
BEGIN:VTIMEZONE
TZID:America/Los_Angeles 
END:VTIMEZONE
BEGIN:VEVENT
SEQUENCE:2
TRANSP:OPAQUE
UID:21f4ac3260ebeb1e709dee1fdd36bd9e
DTSTART:20180811T213000
DTSTAMP:20180811T170146Z
SUMMARY:Hollow Down
DESCRIPTION:Hollow Down formed in 2013 out of various players from the Humboldt County, CA music scene to explore a different, darker version of folk, fuzz, rhythm, and good ol greasy punk rock. After releasing their first album on their own Had Matter Records in 2014 and touring New Orleans to Northern California in 2015, the band was largely on hiatus until fall 2017 when bass player Perry toured the Pacific Northwest with Trash Slam Poet Wil Gibson. Now fully reformed with old and new members, the sound is evolving into a juggernaut of haunting rythyms, gritty soulful vocals and some dynamic musical surprises. Stay tuned, new things are brewing....
CREATED:20180811T170146Z
URL;VALUE=URI:http://holdmyticket.com/event/320396 

DTEND:20180812T010000
END:VEVENT
END:VCALENDAR