BEGIN:VCALENDAR
METHOD:PUBLISH
X-WR-TIMEZONE:America/Chicago
PRODID:-//Hold My Ticket.//HMT Web App//EN
CALSCALE:GREGORIAN
METHOD:PUBLISH
X-WR-CALNAME:Threadgill's World Headquarters
X-WR-CALDESC:Upcoming events at Threadgill's World Headquarters
BEGIN:VTIMEZONE
TZID:America/Chicago 
END:VTIMEZONE
BEGIN:VEVENT
SEQUENCE:2
TRANSP:OPAQUE
UID:57e29820c9cb9f6453bf978cc218ca9e
DTSTART:20180824T204500
DTSTAMP:20180824T160127Z
SUMMARY:Extreme Heat
DESCRIPTION:These Austin legends have a performance life that spans five decades. Formed in 1977 from the critically acclaimed band Steam Heat, EXTREME HEAT cut its musical teeth playing legendary Austin venues like the Armadillo, Liberty Lunch, Steamboat, Antones, and the Saxon Pub.
CREATED:20180824T160127Z
URL;VALUE=URI:http://holdmyticket.com/event/320400 

DTEND:20180824T224500
END:VEVENT
END:VCALENDAR