BEGIN:VCALENDAR
METHOD:PUBLISH
X-WR-TIMEZONE:America/Chicago
PRODID:-//Hold My Ticket.//HMT Web App//EN
CALSCALE:GREGORIAN
METHOD:PUBLISH
X-WR-CALNAME:Threadgill's World Headquarters
X-WR-CALDESC:Upcoming events at Threadgill's World Headquarters
BEGIN:VTIMEZONE
TZID:America/Chicago 
END:VTIMEZONE
BEGIN:VEVENT
SEQUENCE:2
TRANSP:OPAQUE
UID:327633473243687c16f10a8527b988ed
DTSTART:20180831T210000
DTSTAMP:20180831T160141Z
SUMMARY:South Austin Jug Band
DESCRIPTION:Call it bluegrass or new grass  neo-Jug, acoustic country-folk, Texas roots unplugged, swinging Lone Star beatnik country or anything else that strikes you. The sprightly picking and fiddling and the quintet’s witty original songs and choice covers make their sound defy easy pigeonholing while passing through countless categories.
CREATED:20180831T160141Z
URL;VALUE=URI:http://holdmyticket.com/event/320401 

DTEND:20180831T233000
END:VEVENT
END:VCALENDAR