BEGIN:VCALENDAR
METHOD:PUBLISH
X-WR-TIMEZONE:America/Chicago
PRODID:-//Hold My Ticket.//HMT Web App//EN
CALSCALE:GREGORIAN
METHOD:PUBLISH
X-WR-CALNAME:Threadgill's 
X-WR-CALDESC:Upcoming events at Threadgill's 
BEGIN:VTIMEZONE
TZID:America/Chicago 
END:VTIMEZONE
BEGIN:VEVENT
SEQUENCE:2
TRANSP:OPAQUE
UID:eff6710efd37473c51b5648c40514996
DTSTART:20180831T200000
DTSTAMP:20180831T150142Z
SUMMARY:Cotton Mather
DESCRIPTION:Cotton Mather's music is brilliant fusion of The Beatles, Squeeze and other power pop influences both vintage and contemporary. Oasis guitarist and songwriter Noel Gallagher got a copy of their album “Kon Tiki", and was impressed. He helped promote Cotton Mather and asked them to tour with Oasis.
CREATED:20180831T150142Z
URL;VALUE=URI:http://holdmyticket.com/event/320404 

DTEND:20180831T220000
END:VEVENT
END:VCALENDAR