BEGIN:VCALENDAR
METHOD:PUBLISH
X-WR-TIMEZONE:America/Chicago
PRODID:-//Hold My Ticket.//HMT Web App//EN
CALSCALE:GREGORIAN
METHOD:PUBLISH
X-WR-CALNAME:Threadgill's World Headquarters
X-WR-CALDESC:Upcoming events at Threadgill's World Headquarters
BEGIN:VTIMEZONE
TZID:America/Chicago 
END:VTIMEZONE
BEGIN:VEVENT
SEQUENCE:2
TRANSP:OPAQUE
UID:f1069a2ae2bb6b2811f562b232da1dd5
DTSTART:20180825T200000
DTSTAMP:20180825T150139Z
SUMMARY:The Mike Cross Band
DESCRIPTION:Come out to Threadgill's for an evening with the Mike Cross Band. Newland Moorefield opens at 8pm.
CREATED:20180825T150139Z
URL;VALUE=URI:http://holdmyticket.com/event/320419 

DTEND:20180825T230000
END:VEVENT
END:VCALENDAR