BEGIN:VCALENDAR
METHOD:PUBLISH
X-WR-TIMEZONE:America/Denver
PRODID:-//Hold My Ticket.//HMT Web App//EN
CALSCALE:GREGORIAN
METHOD:PUBLISH
X-WR-CALNAME:The Oriental Theater
X-WR-CALDESC:Upcoming events at The Oriental Theater
BEGIN:VTIMEZONE
TZID:America/Denver 
END:VTIMEZONE
BEGIN:VEVENT
SEQUENCE:2
TRANSP:OPAQUE
UID:30fd80920664a9e5c9b225729395bc21
DTSTART:20190106T193000
DTSTAMP:20181030T141557Z
SUMMARY:Cinema Twain - film screening w/ Val Kilmer  
DESCRIPTION:
CREATED:20181030T141557Z
URL;VALUE=URI:http://holdmyticket.com/event/320445 

DTEND:20190106T223000
END:VEVENT
END:VCALENDAR