BEGIN:VCALENDAR
METHOD:PUBLISH
X-WR-TIMEZONE:America/Denver
PRODID:-//Hold My Ticket.//HMT Web App//EN
CALSCALE:GREGORIAN
METHOD:PUBLISH
X-WR-CALNAME:Santa Fe Brewing Company
X-WR-CALDESC:Upcoming events at Santa Fe Brewing Company
BEGIN:VTIMEZONE
TZID:America/Denver 
END:VTIMEZONE
BEGIN:VEVENT
SEQUENCE:2
TRANSP:OPAQUE
UID:5018e312ed85c05f606f77907f42cc64
DTSTART:20180823T180000
DTSTAMP:20180823T154014Z
SUMMARY:30th Anniversary Beer Dinner with Pig and Fig
DESCRIPTION:30th Anniversary Beer Dinner with Pig &amp; Fig
CREATED:20180823T154014Z
URL;VALUE=URI:http://holdmyticket.com/event/320807 

DTEND:20180823T210000
END:VEVENT
END:VCALENDAR