BEGIN:VCALENDAR
METHOD:PUBLISH
X-WR-TIMEZONE:America/Chicago
PRODID:-//Hold My Ticket.//HMT Web App//EN
CALSCALE:GREGORIAN
METHOD:PUBLISH
X-WR-CALNAME:Threadgill's 
X-WR-CALDESC:Upcoming events at Threadgill's 
BEGIN:VTIMEZONE
TZID:America/Chicago 
END:VTIMEZONE
BEGIN:VEVENT
SEQUENCE:2
TRANSP:OPAQUE
UID:6445e93f73a03aa1e7771d38827bb293
DTSTART:20180901T200000
DTSTAMP:20180901T150111Z
SUMMARY:Freedonia
DESCRIPTION:Austin’s hottest new All Star band featuring Scott Laningham, John Fremgen, James Fenner, Christopher Cross, Eddy Hobizal, Russell Haight, Seth Carper, and Justin Vasquez.

Seth Carper- Tenor Sax
Christopher Cross- Vocals &amp; Guitar
James Fenner - Percussion
John Fremgen- Bass
Russell Haight- Tenor Sax
Eddy Hobizal- Wurlitzer Piano
Scott Laningham - Drums
Justin Vasquez- Alto &amp; Soprano Sax
CREATED:20180901T150111Z
URL;VALUE=URI:http://holdmyticket.com/event/320851 

DTEND:20180901T220000
END:VEVENT
END:VCALENDAR