BEGIN:VCALENDAR
METHOD:PUBLISH
X-WR-TIMEZONE:America/Chicago
PRODID:-//Hold My Ticket.//HMT Web App//EN
CALSCALE:GREGORIAN
METHOD:PUBLISH
X-WR-CALNAME:Threadgill's 
X-WR-CALDESC:Upcoming events at Threadgill's 
BEGIN:VTIMEZONE
TZID:America/Chicago 
END:VTIMEZONE
BEGIN:VEVENT
SEQUENCE:2
TRANSP:OPAQUE
UID:60d840358f25f9e951a3cf3873556e5f
DTSTART:20180921T200000
DTSTAMP:20180921T150204Z
SUMMARY:Songwriters Series: Michael Hearne &amp; Shake Russell
DESCRIPTION:Michael Hearne and Shake Russell have joined forces on their first duo recording - "Only As Strong As Your Dreams" released on Howlin' Dog Records! Come out for an evening of incredible music and food. 

CREATED:20180921T150204Z
URL;VALUE=URI:http://holdmyticket.com/event/320863 

DTEND:20180921T220000
END:VEVENT
END:VCALENDAR