BEGIN:VCALENDAR
METHOD:PUBLISH
X-WR-TIMEZONE:America/Chicago
PRODID:-//Hold My Ticket.//HMT Web App//EN
CALSCALE:GREGORIAN
METHOD:PUBLISH
X-WR-CALNAME:Threadgill's 
X-WR-CALDESC:Upcoming events at Threadgill's 
BEGIN:VTIMEZONE
TZID:America/Chicago 
END:VTIMEZONE
BEGIN:VEVENT
SEQUENCE:2
TRANSP:OPAQUE
UID:ee20c3106568edafc02543665ab7fee1
DTSTART:20180922T200000
DTSTAMP:20180922T150146Z
SUMMARY:Songwriters Series: Shelley Mac, James Speer &amp; Rod Williams
DESCRIPTION:New Zealand pop sensation, Shelley Mac, and Texas rocker, Rod Williams, are teaming up with Austin piano virtuosos, James Speer, to deliver original songs reimagined for Threadgill's Songwriters Series. You won't want to miss this!
CREATED:20180922T150146Z
URL;VALUE=URI:http://holdmyticket.com/event/320865 

DTEND:20180922T220000
END:VEVENT
END:VCALENDAR