BEGIN:VCALENDAR
METHOD:PUBLISH
X-WR-TIMEZONE:America/Chicago
PRODID:-//Hold My Ticket.//HMT Web App//EN
CALSCALE:GREGORIAN
METHOD:PUBLISH
X-WR-CALNAME:Threadgill's 
X-WR-CALDESC:Upcoming events at Threadgill's 
BEGIN:VTIMEZONE
TZID:America/Chicago 
END:VTIMEZONE
BEGIN:VEVENT
SEQUENCE:2
TRANSP:OPAQUE
UID:508e0570af725b718e8046676c45c778
DTSTART:20180929T200000
DTSTAMP:20180929T150116Z
SUMMARY:Freedonia
DESCRIPTION:Austin’s hottest new All Star band featuring Scott Laningham, John Fremgen, James Fenner, Christopher Cross, Jeff Helmer, Russell Haight, Seth Carper, and Justin Vasquez.

CREATED:20180929T150116Z
URL;VALUE=URI:http://holdmyticket.com/event/320870 

DTEND:20180929T220000
END:VEVENT
END:VCALENDAR