BEGIN:VCALENDAR
METHOD:PUBLISH
X-WR-TIMEZONE:America/Chicago
PRODID:-//Hold My Ticket.//HMT Web App//EN
CALSCALE:GREGORIAN
METHOD:PUBLISH
X-WR-CALNAME:Threadgill's World Headquarters
X-WR-CALDESC:Upcoming events at Threadgill's World Headquarters
BEGIN:VTIMEZONE
TZID:America/Chicago 
END:VTIMEZONE
BEGIN:VEVENT
SEQUENCE:2
TRANSP:OPAQUE
UID:3177b3bf77a01385e86b66e5d0dd9e82
DTSTART:20180902T110000
DTSTAMP:20180902T060109Z
SUMMARY:Gospel Brunch: George Ensle &amp; Groove Angels
DESCRIPTION:Join us for Sunday brunch at Threadgill's every weekend with live music and a delicious breakfast buffet! 

Music on Sunday from 11am - 1pm • $12.95 Adults &amp; $5.95 Children

All you can eat buffet of all your favorites, including:

Made to order Omelette Station, Migas &amp; Salsa, Hash Browns, Garlic Cheese Grits, Refried Beans, Tortillas, Bacon, Sausage, Biscuits &amp; Gravy, Buttermilk Pancakes, Sweet Potato Pancakes, French Toast and Fresh Fruit.
CREATED:20180902T060109Z
URL;VALUE=URI:http://holdmyticket.com/event/320873 

DTEND:20180902T130000
END:VEVENT
END:VCALENDAR