BEGIN:VCALENDAR
METHOD:PUBLISH
X-WR-TIMEZONE:America/Los_Angeles
PRODID:-//Hold My Ticket.//HMT Web App//EN
CALSCALE:GREGORIAN
METHOD:PUBLISH
X-WR-CALNAME:Humboldt Brews
X-WR-CALDESC:Upcoming events at Humboldt Brews
BEGIN:VTIMEZONE
TZID:America/Los_Angeles 
END:VTIMEZONE
BEGIN:VEVENT
SEQUENCE:2
TRANSP:OPAQUE
UID:373d7ac6c06ba3fa61e92468a663363f
DTSTART:20180814T110000
DTSTAMP:20180814T060153Z
SUMMARY:Daytime Dancetime Therapy
DESCRIPTION:Spend the afternoon relaxing with Massage, Reiki, Yoga, Meditation, Chi Nei Tsang, and more.  Music by DJ D'Vinity.  Email daytimedance707@gmail.com for more information.
CREATED:20180814T060153Z
URL;VALUE=URI:http://holdmyticket.com/event/320883 

DTEND:20180814T140000
END:VEVENT
END:VCALENDAR