BEGIN:VCALENDAR
METHOD:PUBLISH
X-WR-TIMEZONE:America/Denver
PRODID:-//Hold My Ticket.//HMT Web App//EN
CALSCALE:GREGORIAN
METHOD:PUBLISH
X-WR-CALNAME:Taos Mesa Brewing Mothership
X-WR-CALDESC:Upcoming events at Taos Mesa Brewing Mothership
BEGIN:VTIMEZONE
TZID:America/Denver 
END:VTIMEZONE
BEGIN:VEVENT
SEQUENCE:2
TRANSP:OPAQUE
UID:b9108181bc4b71208d3efef8c05cad37
DTSTART:20180812T110000
DTSTAMP:20180812T060147Z
SUMMARY:Exposed! A Symposium regarding 5G, Birds, Bees, and Humanity
DESCRIPTION:
CREATED:20180812T060147Z
URL;VALUE=URI:http://holdmyticket.com/event/320891 

DTEND:20180812T170000
END:VEVENT
END:VCALENDAR