BEGIN:VCALENDAR
METHOD:PUBLISH
X-WR-TIMEZONE:America/Los_Angeles
PRODID:-//Hold My Ticket.//HMT Web App//EN
CALSCALE:GREGORIAN
METHOD:PUBLISH
X-WR-CALNAME:Downbeat Lounge
X-WR-CALDESC:Upcoming events at Downbeat Lounge
BEGIN:VTIMEZONE
TZID:America/Los_Angeles 
END:VTIMEZONE
BEGIN:VEVENT
SEQUENCE:2
TRANSP:OPAQUE
UID:9dcf738fea32832707dd4805a1dc7923
DTSTART:20180901T210000
DTSTAMP:20180901T160111Z
SUMMARY:EmopartyHNL At Downbeat Lounge
DESCRIPTION:City and Chainsaw Productions presents #emopartyhnl. Celebrate the glory days of Myspace and the sounds of Blink 182, Rites of Spring, New Found Glory and more. Playing all the hits and bangers of the 90's and early 2000's. 

September 1
9pm
21+
$5

Downbeat Lounge
42 N Hotel Street
Honolulu, HI 96817

#emonighthnl is a dance party and celebration of the sub-scene of alternative rock from the 90's and early 2000's

City and Chainsaw Productions is a concert and event promoter based in Honolulu, HI. Specializing in punk, ska, hardcore, indie, etc.
https://www.facebook.com/cityandchainsaw/
CREATED:20180901T160111Z
URL;VALUE=URI:http://holdmyticket.com/event/321131 

DTEND:20180902T010000
END:VEVENT
END:VCALENDAR