BEGIN:VCALENDAR
METHOD:PUBLISH
X-WR-TIMEZONE:America/Chicago
PRODID:-//Hold My Ticket.//HMT Web App//EN
CALSCALE:GREGORIAN
METHOD:PUBLISH
X-WR-CALNAME:Threadgill's World Headquarters
X-WR-CALDESC:Upcoming events at Threadgill's World Headquarters
BEGIN:VTIMEZONE
TZID:America/Chicago 
END:VTIMEZONE
BEGIN:VEVENT
SEQUENCE:2
TRANSP:OPAQUE
UID:fad008195a5d006f954263c04dfc753b
DTSTART:20180915T200000
DTSTAMP:20180915T150148Z
SUMMARY:Ulrich Ellison and Tribe 
DESCRIPTION:Ulrich Ellison is not your typical Blues rock guy. The Texas-based guitarist with European roots has quite a story to tell, utilizing his own voice – a bluesy, cool sound that is pushing the borders of the genre.  Dean Reneé Band opens the evening at 8pm.  $12 presale / $15 at door.
CREATED:20180915T150148Z
URL;VALUE=URI:http://holdmyticket.com/event/321150 

DTEND:20180915T233000
END:VEVENT
END:VCALENDAR