BEGIN:VCALENDAR
METHOD:PUBLISH
X-WR-TIMEZONE:America/Denver
PRODID:-//Hold My Ticket.//HMT Web App//EN
CALSCALE:GREGORIAN
METHOD:PUBLISH
X-WR-CALNAME:Tractor Brewing Wells Park
X-WR-CALDESC:Upcoming events at Tractor Brewing Wells Park
BEGIN:VTIMEZONE
TZID:America/Denver 
END:VTIMEZONE
BEGIN:VEVENT
SEQUENCE:2
TRANSP:OPAQUE
UID:2024bf51fc254bfda648403e0215fbcd
DTSTART:20181027T190000
DTSTAMP:20181027T140113Z
SUMMARY:Stranger Things Arcade Carnival &amp; Reptilian Lounge
DESCRIPTION:It's back! In celebration of Halloween and the hit Netflix show Stranger Things, Tractor Brewing and Tricklock Company have teamed up to bring you another evening of the Strangest Things in Albuquerque!
CREATED:20181027T140113Z
URL;VALUE=URI:http://holdmyticket.com/event/321204 

DTEND:20181028T020000
END:VEVENT
END:VCALENDAR