BEGIN:VCALENDAR
METHOD:PUBLISH
X-WR-TIMEZONE:America/Chicago
PRODID:-//Hold My Ticket.//HMT Web App//EN
CALSCALE:GREGORIAN
METHOD:PUBLISH
X-WR-CALNAME:Threadgill's World Headquarters
X-WR-CALDESC:Upcoming events at Threadgill's World Headquarters
BEGIN:VTIMEZONE
TZID:America/Chicago 
END:VTIMEZONE
BEGIN:VEVENT
SEQUENCE:2
TRANSP:OPAQUE
UID:9f1ceefd0fd9b4f631ff9e50574ad6f2
DTSTART:20180911T180000
DTSTAMP:20180911T130143Z
SUMMARY:HAAM DAY with Marcia Ball and Cody Jasper
DESCRIPTION:Each year on HAAM Day, the Health Alliance for Austin Musicians (HAAM) hosts over 200 free concerts across Austin. Join us for performances by Marcia Ball (7:30) and Cody Jasper (6:00).  Free show / accepting donations to HAAM
CREATED:20180911T130143Z
URL;VALUE=URI:http://holdmyticket.com/event/321510 

DTEND:20180911T210000
END:VEVENT
END:VCALENDAR