BEGIN:VCALENDAR
METHOD:PUBLISH
X-WR-TIMEZONE:America/Chicago
PRODID:-//Hold My Ticket.//HMT Web App//EN
CALSCALE:GREGORIAN
METHOD:PUBLISH
X-WR-CALNAME:Threadgill's World Headquarters
X-WR-CALDESC:Upcoming events at Threadgill's World Headquarters
BEGIN:VTIMEZONE
TZID:America/Chicago 
END:VTIMEZONE
BEGIN:VEVENT
SEQUENCE:2
TRANSP:OPAQUE
UID:b1e3f26b59086ae2392c1dd33ea0285a
DTSTART:20180922T180000
DTSTAMP:20180922T130203Z
SUMMARY:Malia Moore Benefit
DESCRIPTION:Join us for the 10th annual Malia Moore Benefit, featuring music from Ray Arteaga, Rick Broussard (from Two Hoots and a Holler), and Lara Price. Donations accepted / silent auction
CREATED:20180922T130203Z
URL;VALUE=URI:http://holdmyticket.com/event/321513 

DTEND:20180922T220000
END:VEVENT
END:VCALENDAR