BEGIN:VCALENDAR
METHOD:PUBLISH
X-WR-TIMEZONE:America/Los_Angeles
PRODID:-//Hold My Ticket.//HMT Web App//EN
CALSCALE:GREGORIAN
METHOD:PUBLISH
X-WR-CALNAME:Downbeat Lounge
X-WR-CALDESC:Upcoming events at Downbeat Lounge
BEGIN:VTIMEZONE
TZID:America/Los_Angeles 
END:VTIMEZONE
BEGIN:VEVENT
SEQUENCE:2
TRANSP:OPAQUE
UID:8ee40385a012154af6a7eb920a046b60
DTSTART:20180908T210000
DTSTAMP:20180908T160149Z
SUMMARY:Bird of Paradise at Downbeat Lounge
DESCRIPTION:DJ Jet Boy presents a special appearance by Los Angeles-based synth pop artist Bird of Paradise, returning to Hawaii for a mini-tour of Honolulu. Featuring supporting performances by indie rock groups Spooky Couch, Modern Mess and Ragamuffs.

September 8
9pm
21+
$5

Downbeat Lounge
42 N Hotel Street
Honolulu, HI 96817

Bird of Paradise is a synthpop band from Oakland, CA - now based in Los Angeles. The project began in Hawaii when Rachael Ann began writing songs influenced by tropicalia and traditional Hawaiian music as well as bay area indiepop. Her songs are about loss, love, and heart-on-your sleeve stories interpreted through dance and pop. Denney, a recent collaborator from Oakland, brings a post-punk sensibility and production to the "Thief EP," out now on Itunes, Spotify and Bandcamp. Released through Cryptic Carousel tapes. https://birdofparadiseband.bandcamp.com/
https://www.facebook.com/birdofparadiseband/

Featuring members of Sing the Body and MonoTrio, indie rock group SPOOKY COUCH is making a name for themselves with rollicking shows in and around Honolulu, HI.
https://www.facebook.com/spookycouch/

Originally formed in 2009 as Half Step Down, the band has built a strong following within the local scene with their unique display of melodic hard-hitting rock combined with soaring vocals. Reforming themselves in late 2017 to what is now Modern Mess, the band continues to work towards expanding their musical reach beyond their island boundaries.
https://www.modernmessmusic.com/
https://www.facebook.com/halfstepdownhawaii/

Ragamuffs are a Honolulu based indie rock band
https://www.instagram.com/ragamuffs/
CREATED:20180908T160149Z
URL;VALUE=URI:http://holdmyticket.com/event/321740 

DTEND:20180909T020000
END:VEVENT
END:VCALENDAR