BEGIN:VCALENDAR
METHOD:PUBLISH
X-WR-TIMEZONE:America/Chicago
PRODID:-//Hold My Ticket.//HMT Web App//EN
CALSCALE:GREGORIAN
METHOD:PUBLISH
X-WR-CALNAME:Threadgill's World Headquarters
X-WR-CALDESC:Upcoming events at Threadgill's World Headquarters
BEGIN:VTIMEZONE
TZID:America/Chicago 
END:VTIMEZONE
BEGIN:VEVENT
SEQUENCE:2
TRANSP:OPAQUE
UID:176f27fbe4478ee78871b92962943cb8
DTSTART:20180901T200000
DTSTAMP:20180901T150111Z
SUMMARY:White Ghost Shivers
DESCRIPTION:White Ghost Shivers is an eclectic American band based in Austin, Texas. They mix cabaret, jazz, vaudeville, hokum, western swing, hillbilly, jugband and ragtime into a theatrical and infectious good time. They must be seen to be believed and are winners of 8 Austin Music Awards.
CREATED:20180901T150111Z
URL;VALUE=URI:http://holdmyticket.com/event/321761 

DTEND:20180901T230000
END:VEVENT
END:VCALENDAR