BEGIN:VCALENDAR
METHOD:PUBLISH
X-WR-TIMEZONE:America/Chicago
PRODID:-//Hold My Ticket.//HMT Web App//EN
CALSCALE:GREGORIAN
METHOD:PUBLISH
X-WR-CALNAME:Luckenbach Texas
X-WR-CALDESC:Upcoming events at Luckenbach Texas
BEGIN:VTIMEZONE
TZID:America/Chicago 
END:VTIMEZONE
BEGIN:VEVENT
SEQUENCE:2
TRANSP:OPAQUE
UID:a00073a4f1068f31c9769d499cd0a90d
DTSTART:20191127T200000
DTSTAMP:20191127T160122Z
SUMMARY:Thanksgiving Ball w/Dale Watson
DESCRIPTION:
CREATED:20191127T160122Z
URL;VALUE=URI:http://holdmyticket.com/event/321953 

DTEND:20191127T233000
END:VEVENT
END:VCALENDAR