BEGIN:VCALENDAR
METHOD:PUBLISH
X-WR-TIMEZONE:America/Chicago
PRODID:-//Hold My Ticket.//HMT Web App//EN
CALSCALE:GREGORIAN
METHOD:PUBLISH
X-WR-CALNAME:Threadgill's World Headquarters
X-WR-CALDESC:Upcoming events at Threadgill's World Headquarters
BEGIN:VTIMEZONE
TZID:America/Chicago 
END:VTIMEZONE
BEGIN:VEVENT
SEQUENCE:2
TRANSP:OPAQUE
UID:d8e6d23caa8076c5b4ba1e3a660ea6d9
DTSTART:20180929T180000
DTSTAMP:20180929T130114Z
SUMMARY:Beto and the Fairlanes 40th Anniversary Show 
DESCRIPTION:Austin legends Beto and the Fairlanes are celebrating their 40th anniversary, they were there at the birth of the Austin music scene having playing multiple times at the Armadillo World Headquarters and thousands of shows over the years. SPECIAL GUESTS include Mitch Watkins, Javier Chaparro, Tee Double and Tomas Ramirez. Doors at 5pm, show 6-8:30pm. 

CREATED:20180929T130114Z
URL;VALUE=URI:http://holdmyticket.com/event/322122 

DTEND:20180929T203000
END:VEVENT
END:VCALENDAR