BEGIN:VCALENDAR
METHOD:PUBLISH
X-WR-TIMEZONE:America/Chicago
PRODID:-//Hold My Ticket.//HMT Web App//EN
CALSCALE:GREGORIAN
METHOD:PUBLISH
X-WR-CALNAME:Threadgill's World Headquarters
X-WR-CALDESC:Upcoming events at Threadgill's World Headquarters
BEGIN:VTIMEZONE
TZID:America/Chicago 
END:VTIMEZONE
BEGIN:VEVENT
SEQUENCE:2
TRANSP:OPAQUE
UID:57db31730ac06286666bf92d06320796
DTSTART:20180914T200000
DTSTAMP:20180914T150111Z
SUMMARY:The Damn Torpedoes and Departure ATX
DESCRIPTION:Get ready for a night of rock 'n roll!
8pm - Departure ATX, a tribute to Journey 
9:45pm - The Damn Torpedoes, a tribute to Tom Petty and the Heartbreakers
CREATED:20180914T150111Z
URL;VALUE=URI:http://holdmyticket.com/event/322322 

DTEND:20180914T230000
END:VEVENT
END:VCALENDAR