BEGIN:VCALENDAR
METHOD:PUBLISH
X-WR-TIMEZONE:America/Chicago
PRODID:-//Hold My Ticket.//HMT Web App//EN
CALSCALE:GREGORIAN
METHOD:PUBLISH
X-WR-CALNAME:Threadgill's World Headquarters
X-WR-CALDESC:Upcoming events at Threadgill's World Headquarters
BEGIN:VTIMEZONE
TZID:America/Chicago 
END:VTIMEZONE
BEGIN:VEVENT
SEQUENCE:2
TRANSP:OPAQUE
UID:8861431eadbbb74a9125cc290d1d12a9
DTSTART:20181019T200000
DTSTAMP:20181019T150153Z
SUMMARY:Ain't Wastin Time &amp; Cream Cheese Accident
DESCRIPTION:Ain't Wastin' Time pays tribute to the Allman Brothers, 8pm
Cream Cheese Accident pays tribute to the String Cheese Incident, 10pm

Tickets: 
Limited Early Bird: $5
General Pre-Sale: $10
Day of Show $15
CREATED:20181019T150153Z
URL;VALUE=URI:http://holdmyticket.com/event/322501 

DTEND:20181019T234500
END:VEVENT
END:VCALENDAR