BEGIN:VCALENDAR
METHOD:PUBLISH
X-WR-TIMEZONE:America/Los_Angeles
PRODID:-//Hold My Ticket.//HMT Web App//EN
CALSCALE:GREGORIAN
METHOD:PUBLISH
X-WR-CALNAME:Downbeat Lounge
X-WR-CALDESC:Upcoming events at Downbeat Lounge
BEGIN:VTIMEZONE
TZID:America/Los_Angeles 
END:VTIMEZONE
BEGIN:VEVENT
SEQUENCE:2
TRANSP:OPAQUE
UID:2c2a65919c024eb2cd426d4d4132a4fb
DTSTART:20180913T210000
DTSTAMP:20180913T160106Z
SUMMARY:Psychedelic Thursday at Downbeat Lounge
DESCRIPTION:Green Priest presents Psychedelic Thursday at Downbeat Lounge. Featuring special guest performers Acid Gnome and Mammoth Hunter

September 13
9pm
21+
No cover

Downbeat Lounge
42 N. Hotel Street
Honolulu, HI 96817

Green Priest is a psychedelic band from Honolulu, HI
https://www.instagram.com/green_priest777/
CREATED:20180913T160106Z
URL;VALUE=URI:http://holdmyticket.com/event/322622 

DTEND:20180914T010000
END:VEVENT
END:VCALENDAR