BEGIN:VCALENDAR
METHOD:PUBLISH
X-WR-TIMEZONE:America/Los_Angeles
PRODID:-//Hold My Ticket.//HMT Web App//EN
CALSCALE:GREGORIAN
METHOD:PUBLISH
X-WR-CALNAME:Humboldt Brews
X-WR-CALDESC:Upcoming events at Humboldt Brews
BEGIN:VTIMEZONE
TZID:America/Los_Angeles 
END:VTIMEZONE
BEGIN:VEVENT
SEQUENCE:2
TRANSP:OPAQUE
UID:d9723cbb64862d28a214889f91c5724e
DTSTART:20181016T210000
DTSTAMP:20181016T160111Z
SUMMARY:Grateful Bluegrass Boys performs Workingman's Dead
DESCRIPTION:Grateful Bluegrass Boys are a string band who focus on Bluegrass versions of Classic Rock and Grateful Dead tunes. They also love ripping banjo and fiddle tunes to get people hopping every time! Members of the band perform(ed) with other groups such as: Hot Buttered Rum, Dusty Green Bones Band, Poor Man’s Whiskey, and Achilles Wheel. This tour will include a complete performance of the iconic Grateful Dead album, Workingman’s Dead!
CREATED:20181016T160111Z
URL;VALUE=URI:http://holdmyticket.com/event/322766 

DTEND:20181017T010000
END:VEVENT
END:VCALENDAR