BEGIN:VCALENDAR
METHOD:PUBLISH
X-WR-TIMEZONE:America/Los_Angeles
PRODID:-//Hold My Ticket.//HMT Web App//EN
CALSCALE:GREGORIAN
METHOD:PUBLISH
X-WR-CALNAME:Humboldt Brews
X-WR-CALDESC:Upcoming events at Humboldt Brews
BEGIN:VTIMEZONE
TZID:America/Los_Angeles 
END:VTIMEZONE
BEGIN:VEVENT
SEQUENCE:2
TRANSP:OPAQUE
UID:2ac72ee563ced7073a47c813798382f6
DTSTART:20181020T220000
DTSTAMP:20181020T170118Z
SUMMARY:Brews n' Bass
DESCRIPTION:October Brews 'n Bass keeping it poppin' this Fall. Blaow, Jalaya and Mhytee coming in hot off the Summer festival circuit! Don't sleep on this one!
CREATED:20181020T170118Z
URL;VALUE=URI:http://holdmyticket.com/event/322768 

DTEND:20181021T010000
END:VEVENT
END:VCALENDAR