BEGIN:VCALENDAR
METHOD:PUBLISH
X-WR-TIMEZONE:America/Los_Angeles
PRODID:-//Hold My Ticket.//HMT Web App//EN
CALSCALE:GREGORIAN
METHOD:PUBLISH
X-WR-CALNAME:Humboldt Brews
X-WR-CALDESC:Upcoming events at Humboldt Brews
BEGIN:VTIMEZONE
TZID:America/Los_Angeles 
END:VTIMEZONE
BEGIN:VEVENT
SEQUENCE:2
TRANSP:OPAQUE
UID:daa7f6976230b5d1c95abb6345e07109
DTSTART:20181030T200000
DTSTAMP:20181030T173426Z
SUMMARY:California Kind
DESCRIPTION:Jam veterans Barry Sless, Rob Barraco, Pete Sears and John Molo team up with singer/ songwriter/guitarist Katie Skene to perform original music, classic Americana and rock n' roll, blending uninhibited jams, swamp blues, old style twang, traditional roots music, and southern soul into a musical truth that pushes forward the tradition of the California Jam Band movement.

Barry Sless (David Nelson Band, Phil Lesh, Moonalice, Cowboy Jazz)
Pete Sears (David Nelson Band, Jefferson Starship, Hot Tuna, Moonalice)
John Molo (Phil Lesh, David Nelson Band, Bruce Hornsby, Moonalice)
Rob Barraco (Phil Lesh, The Dead, Dark Star Orchestra, Chris Robinson)
Katie Skene  (Singer/Songwriter)
CREATED:20181030T173426Z
URL;VALUE=URI:http://holdmyticket.com/event/323025 

DTEND:20181030T234500
END:VEVENT
END:VCALENDAR