BEGIN:VCALENDAR
METHOD:PUBLISH
X-WR-TIMEZONE:America/Los_Angeles
PRODID:-//Hold My Ticket.//HMT Web App//EN
CALSCALE:GREGORIAN
METHOD:PUBLISH
X-WR-CALNAME:Winstons
X-WR-CALDESC:Upcoming events at Winstons
BEGIN:VTIMEZONE
TZID:America/Los_Angeles 
END:VTIMEZONE
BEGIN:VEVENT
SEQUENCE:2
TRANSP:OPAQUE
UID:6a26bc5cf1e797c5451996c47ea127e8
DTSTART:20180922T213000
DTSTAMP:20180922T193328Z
SUMMARY:Burritos, The Good Tones, Ocean Natives and DJ Carlos Culture
DESCRIPTION:
CREATED:20180922T193328Z
URL;VALUE=URI:http://holdmyticket.com/event/323306 

DTEND:20180923T003000
END:VEVENT
END:VCALENDAR