BEGIN:VCALENDAR
METHOD:PUBLISH
X-WR-TIMEZONE:America/Los_Angeles
PRODID:-//Hold My Ticket.//HMT Web App//EN
CALSCALE:GREGORIAN
METHOD:PUBLISH
X-WR-CALNAME:Humboldt Brews
X-WR-CALDESC:Upcoming events at Humboldt Brews
BEGIN:VTIMEZONE
TZID:America/Los_Angeles 
END:VTIMEZONE
BEGIN:VEVENT
SEQUENCE:2
TRANSP:OPAQUE
UID:c29a72c025ebdfae6983e4645beaa3ef
DTSTART:20181017T210000
DTSTAMP:20181017T160130Z
SUMMARY:The Great Bingo Revival
DESCRIPTION:The Great Bingo Revival is the captivating 1970’s throwback interactive game show delighting events across the United States.
Harkening back to an era of wide bottom pants, groovy dance moves and big glasses, the game was founded and is hosted by the Reverend Rusty Reams, North America’s #1 bingo caller. The show features a multi-genre soundtrack dj’d 100% live by D.J.B.I.N.G.O. aka micah jand all rooted in classic soul, funk and disco music, the BINGO-GO Dancers, far-out prizes and solid gold BINGO
CREATED:20181017T160130Z
URL;VALUE=URI:http://holdmyticket.com/event/323307 

DTEND:20181018T003000
END:VEVENT
END:VCALENDAR