BEGIN:VCALENDAR
METHOD:PUBLISH
X-WR-TIMEZONE:America/Chicago
PRODID:-//Hold My Ticket.//HMT Web App//EN
CALSCALE:GREGORIAN
METHOD:PUBLISH
X-WR-CALNAME:Threadgill's World Headquarters
X-WR-CALDESC:Upcoming events at Threadgill's World Headquarters
BEGIN:VTIMEZONE
TZID:America/Chicago 
END:VTIMEZONE
BEGIN:VEVENT
SEQUENCE:2
TRANSP:OPAQUE
UID:fc6cd2c566988d28fe632de1f4e7fe04
DTSTART:20181007T200000
DTSTAMP:20181007T150200Z
SUMMARY:The 28th Annual John Lennon Birthday Tribute with The #9 Orchestra
DESCRIPTION:For 28 years running, The #9 Orchestra join together to pay tribute to the life and music of John Lennon and The Beatles.
CREATED:20181007T150200Z
URL;VALUE=URI:http://holdmyticket.com/event/323332 

DTEND:20181007T223000
END:VEVENT
END:VCALENDAR