BEGIN:VCALENDAR
METHOD:PUBLISH
X-WR-TIMEZONE:America/Chicago
PRODID:-//Hold My Ticket.//HMT Web App//EN
CALSCALE:GREGORIAN
METHOD:PUBLISH
X-WR-CALNAME:Coupland Dancehall
X-WR-CALDESC:Upcoming events at Coupland Dancehall
BEGIN:VTIMEZONE
TZID:America/Chicago 
END:VTIMEZONE
BEGIN:VEVENT
SEQUENCE:2
TRANSP:OPAQUE
UID:d4f9f017c2c7bb707f3bd83da14d2cbb
DTSTART:20181229T210000
DTSTAMP:20181229T170148Z
SUMMARY:Kevin Fowler + Robynn Shayne
DESCRIPTION:The point behind each lyric, each guitar lick, and each twanging-rocking melody is the live show. Fowler has earned his reputation as one of the most amped-up concert performers to emerge from the modern day Texas country movement. For those that have experienced Fowler onstage, then you know he brings unbridled musical muscle to the platform. Backed by his trusty band he's a dynamo - cracking jokes, hitting high notes, strumming his guitar and putting each of his fans in two-stepping mode. 
CREATED:20181229T170148Z
URL;VALUE=URI:http://holdmyticket.com/event/323352 

DTEND:20181230T000000
END:VEVENT
END:VCALENDAR