BEGIN:VCALENDAR
METHOD:PUBLISH
X-WR-TIMEZONE:America/Denver
PRODID:-//Hold My Ticket.//HMT Web App//EN
CALSCALE:GREGORIAN
METHOD:PUBLISH
X-WR-CALNAME:FatPipe ABQ
X-WR-CALDESC:Upcoming events at FatPipe ABQ
BEGIN:VTIMEZONE
TZID:America/Denver 
END:VTIMEZONE
BEGIN:VEVENT
SEQUENCE:2
TRANSP:OPAQUE
UID:88cb1456f41ad46ad01ef510232fb6bb
DTSTART:20181019T130000
DTSTAMP:20181019T103125Z
SUMMARY:Tech Update
DESCRIPTION:
CREATED:20181019T103125Z
URL;VALUE=URI:http://holdmyticket.com/event/323570 

DTEND:20181019T140000
END:VEVENT
END:VCALENDAR