BEGIN:VCALENDAR
METHOD:PUBLISH
X-WR-TIMEZONE:America/Chicago
PRODID:-//Hold My Ticket.//HMT Web App//EN
CALSCALE:GREGORIAN
METHOD:PUBLISH
X-WR-CALNAME:Threadgill's 
X-WR-CALDESC:Upcoming events at Threadgill's 
BEGIN:VTIMEZONE
TZID:America/Chicago 
END:VTIMEZONE
BEGIN:VEVENT
SEQUENCE:2
TRANSP:OPAQUE
UID:c3c174447c01c1c36872531fd1307789
DTSTART:20181005T200000
DTSTAMP:20181005T150127Z
SUMMARY:Songwriters Series: Chris Gage &amp; Christine Albert
DESCRIPTION:Christine Albert &amp; Chris Gage have a twelve year track record of making beautiful music together, although both musicians' individual pedigrees are far more extensive. Over the course of six duet albums, the duo has demonstrated that disparate backgrounds do not preclude musical soul mates from finding one another.
CREATED:20181005T150127Z
URL;VALUE=URI:http://holdmyticket.com/event/323764 

DTEND:20181005T220000
END:VEVENT
END:VCALENDAR