BEGIN:VCALENDAR
METHOD:PUBLISH
X-WR-TIMEZONE:America/Denver
PRODID:-//Hold My Ticket.//HMT Web App//EN
CALSCALE:GREGORIAN
METHOD:PUBLISH
X-WR-CALNAME:The Guild Cinema
X-WR-CALDESC:Upcoming events at The Guild Cinema
BEGIN:VTIMEZONE
TZID:America/Denver 
END:VTIMEZONE
BEGIN:VEVENT
SEQUENCE:2
TRANSP:OPAQUE
UID:6999b30f2e635ac7f0449a4f8dadc512
DTSTART:20190920T223000
DTSTAMP:20190920T180156Z
SUMMARY:NME Movie Night presents Back to the Future
DESCRIPTION:New Mexico Entertainment magazine presents this month's late night movie at The Guild Cinema, Back to the Future. In this 1980s sci-fi classic, small-town California teen Marty McFly (Michael J. Fox) is thrown back into the '50s when an experiment by his eccentric scientist friend Doc Brown (Christopher Lloyd) goes awry. Traveling through time in a modified DeLorean car, Marty encounters young versions of his parents (Crispin Glover, Lea Thompson), and must make sure that they fall in love or he'll cease to exist. Even more dauntingly, Marty has to return to his own time and save the life of Doc Brown.
Presale ticket holders will be entered to win prizes during the event.

MOVIEPASS IS NOT ACCEPTED AT NEW MEXICO ENTERTAINMENT MOVIE NIGHTS.

TICKETS ARE NON-REFUNDABLE.
PLEASE NOTE: TICKETS WILL NOT BE MAILED TO YOU. Please bring your Hold My Ticket receipt with your current state ID and check in at the Guild Box Office 15 minutes before the show. If you do not have your receipt, please make sure if you have your ID. We will have a list at the box office. In the likelihood we have a sold-out performance or event, tickets are subject to be released for resale to those on the waiting list if you have not checked five minutes before the show starts. Thank you for your punctuality!
CREATED:20190920T180156Z
URL;VALUE=URI:http://holdmyticket.com/event/323824 

DTEND:20190921T010000
END:VEVENT
END:VCALENDAR