BEGIN:VCALENDAR
METHOD:PUBLISH
X-WR-TIMEZONE:America/Denver
PRODID:-//Hold My Ticket.//HMT Web App//EN
CALSCALE:GREGORIAN
METHOD:PUBLISH
X-WR-CALNAME:The Guild Cinema
X-WR-CALDESC:Upcoming events at The Guild Cinema
BEGIN:VTIMEZONE
TZID:America/Denver 
END:VTIMEZONE
BEGIN:VEVENT
SEQUENCE:2
TRANSP:OPAQUE
UID:717cff7ced4cfc7e4bf1415252fa792e
DTSTART:20191027T130000
DTSTAMP:20191027T080233Z
SUMMARY:NME presents Poltergeist
DESCRIPTION:New Mexico Entertainment brings you a special Halloween screening of Poltergeist. Strange and creepy happenings beset an average California family, the Freelings -- Steve, Diane, teenaged Dana, eight-year-old Robbie, and five-year-old Carol Ann -- when ghosts commune with them through the television set. Initially friendly and playful, the spirits turn unexpectedly menacing, and, when Carol Ann goes missing, Steve and Diane turn to a parapsychologist and eventually an exorcist for help.

Presale ticket holders will be entered to win prizes including a custom poster created by artist Jon Sanchez.

NME Movie Night is a LIMITED seat event. MOVIEPASS NOT ACCEPTED.

PLEASE NOTE: TICKETS ARE NON-REFUNDABLE. TICKETS WILL NOT BE MAILED TO YOU. Please bring your payment receipt with your current state ID and check in at the Guild Box Office at 10:00 pm the night of the show. If you do not have your receipt, please make sure if you have your ID. We will have a list at the box office. In the likelihood we have a sold-out performance or event, tickets are subject to be released for resale to those on the waiting list if you have not checked five minutes before the show starts. Thank you for your punctuality!
CREATED:20191027T080233Z
URL;VALUE=URI:http://holdmyticket.com/event/323833 

DTEND:20191027T153000
END:VEVENT
END:VCALENDAR